BEGIN:VCALENDAR
VERSION:2.0
PRODID:-//ÆGLAGERET – Kunst- og Kulturhus i Holbæk - ECPv6.15.15//NONSGML v1.0//EN
CALSCALE:GREGORIAN
METHOD:PUBLISH
X-WR-CALNAME:ÆGLAGERET – Kunst- og Kulturhus i Holbæk
X-ORIGINAL-URL:https://aeglageret.dk
X-WR-CALDESC:Begivenheder for ÆGLAGERET – Kunst- og Kulturhus i Holbæk
REFRESH-INTERVAL;VALUE=DURATION:PT1H
X-Robots-Tag:noindex
X-PUBLISHED-TTL:PT1H
BEGIN:VTIMEZONE
TZID:Europe/Copenhagen
BEGIN:DAYLIGHT
TZOFFSETFROM:+0100
TZOFFSETTO:+0200
TZNAME:CEST
DTSTART:20230326T010000
END:DAYLIGHT
BEGIN:STANDARD
TZOFFSETFROM:+0200
TZOFFSETTO:+0100
TZNAME:CET
DTSTART:20231029T010000
END:STANDARD
BEGIN:DAYLIGHT
TZOFFSETFROM:+0100
TZOFFSETTO:+0200
TZNAME:CEST
DTSTART:20240331T010000
END:DAYLIGHT
BEGIN:STANDARD
TZOFFSETFROM:+0200
TZOFFSETTO:+0100
TZNAME:CET
DTSTART:20241027T010000
END:STANDARD
BEGIN:DAYLIGHT
TZOFFSETFROM:+0100
TZOFFSETTO:+0200
TZNAME:CEST
DTSTART:20250330T010000
END:DAYLIGHT
BEGIN:STANDARD
TZOFFSETFROM:+0200
TZOFFSETTO:+0100
TZNAME:CET
DTSTART:20251026T010000
END:STANDARD
END:VTIMEZONE
BEGIN:VEVENT
DTSTART;TZID=Europe/Copenhagen:20240318T193000
DTEND;TZID=Europe/Copenhagen:20240318T210000
DTSTAMP:20260422T203219
CREATED:20240222T103006Z
LAST-MODIFIED:20240228T081842Z
UID:10000805-1710790200-1710795600@aeglageret.dk
SUMMARY:Æg i dagens Danmark\, er det sundt at spise?
DESCRIPTION:Mandag den 18. marts kl. 19.30 på Æglageret \nHvordan står det til med æg som fødevarer i dag Er det sundt at spise æg?\nHvor meget CO2 udleder et æg? Er der fortsat pfas i æg? – og er salmonella og fugleinfluenza noget man skal tænke på\, når man håndterer eller spiser et æg?\nForedrag af Jørgen Nyberg Larsen\, Sektorchef Danske Æg. \nEntré:  40 kr.  Billetter kan købes her. \n 
URL:https://aeglageret.dk/event/aeg-i-dagens-danmark-er-det-sundt-at-spise/
LOCATION:Atelierloftet
CATEGORIES:Debatmøde
ATTACH;FMTTYPE=image/jpeg:https://aeglageret.dk/wp-content/uploads/2024/02/faerdig-billede-scaled.jpg
END:VEVENT
END:VCALENDAR