BEGIN:VCALENDAR
VERSION:2.0
PRODID:-//ÆGLAGERET – Kunst- og Kulturhus i Holbæk - ECPv6.15.15//NONSGML v1.0//EN
CALSCALE:GREGORIAN
METHOD:PUBLISH
X-ORIGINAL-URL:https://aeglageret.dk
X-WR-CALDESC:Begivenheder for ÆGLAGERET – Kunst- og Kulturhus i Holbæk
REFRESH-INTERVAL;VALUE=DURATION:PT1H
X-Robots-Tag:noindex
X-PUBLISHED-TTL:PT1H
BEGIN:VTIMEZONE
TZID:Europe/Copenhagen
BEGIN:DAYLIGHT
TZOFFSETFROM:+0100
TZOFFSETTO:+0200
TZNAME:CEST
DTSTART:20220327T010000
END:DAYLIGHT
BEGIN:STANDARD
TZOFFSETFROM:+0200
TZOFFSETTO:+0100
TZNAME:CET
DTSTART:20221030T010000
END:STANDARD
BEGIN:DAYLIGHT
TZOFFSETFROM:+0100
TZOFFSETTO:+0200
TZNAME:CEST
DTSTART:20230326T010000
END:DAYLIGHT
BEGIN:STANDARD
TZOFFSETFROM:+0200
TZOFFSETTO:+0100
TZNAME:CET
DTSTART:20231029T010000
END:STANDARD
BEGIN:DAYLIGHT
TZOFFSETFROM:+0100
TZOFFSETTO:+0200
TZNAME:CEST
DTSTART:20240331T010000
END:DAYLIGHT
BEGIN:STANDARD
TZOFFSETFROM:+0200
TZOFFSETTO:+0100
TZNAME:CET
DTSTART:20241027T010000
END:STANDARD
END:VTIMEZONE
BEGIN:VEVENT
DTSTART;TZID=Europe/Copenhagen:20230603T130000
DTEND;TZID=Europe/Copenhagen:20230603T150000
DTSTAMP:20260422T042250
CREATED:20230429T080043Z
LAST-MODIFIED:20230515T093013Z
UID:10000596-1685797200-1685804400@aeglageret.dk
SUMMARY:Fernisering 90 års Jubilæumsudstilling
DESCRIPTION:“Holbæk Kunstforening i 9 årtier”\n  \nHolbæk Kunstforening byder velkommen til 90 års jubilæumsudstilling i Æglageret \nFestlig fernisering lørdag d. 3. juni 2023 kl. 13-15 \nUdstillingsperiode 3. – 25 juni 2023
URL:https://aeglageret.dk/event/fernisering-90-aars-jubilaeumsudstilling/
LOCATION:Salen
CATEGORIES:Udstilling
ATTACH;FMTTYPE=image/jpeg:https://aeglageret.dk/wp-content/uploads/2023/04/90aar_fernis_030623.jpg
END:VEVENT
BEGIN:VEVENT
DTSTART;TZID=Europe/Copenhagen:20230603T130000
DTEND;TZID=Europe/Copenhagen:20230625T160000
DTSTAMP:20260422T042250
CREATED:20230429T080223Z
LAST-MODIFIED:20230609T071652Z
UID:10000597-1685797200-1687708800@aeglageret.dk
SUMMARY:90 års Jubilæumsudstilling Holbæk Kunstforening
DESCRIPTION:“Holbæk Kunstforening i 9 årtier”\n  \nHolbæk Kunstforening byder velkommen til 90 års jubilæumsudstilling i Æglageret \nFernisering lørdag d. 3. juni 2023 kl. 13-15 \nUdstillingsperiode 3. – 25 juni 2023 \nLæs mere om Jubilæumsudstillingen HER
URL:https://aeglageret.dk/event/90-aars-jubilaeumsudstilling-holbaek-kunstforening/
LOCATION:Salen
CATEGORIES:Udstilling
ATTACH;FMTTYPE=image/jpeg:https://aeglageret.dk/wp-content/uploads/2023/04/90aar_A3_plakat.jpg
END:VEVENT
END:VCALENDAR