BEGIN:VCALENDAR
VERSION:2.0
PRODID:-//ÆGLAGERET – Kunst- og Kulturhus i Holbæk - ECPv6.15.15//NONSGML v1.0//EN
CALSCALE:GREGORIAN
METHOD:PUBLISH
X-WR-CALNAME:ÆGLAGERET – Kunst- og Kulturhus i Holbæk
X-ORIGINAL-URL:https://aeglageret.dk
X-WR-CALDESC:Begivenheder for ÆGLAGERET – Kunst- og Kulturhus i Holbæk
REFRESH-INTERVAL;VALUE=DURATION:PT1H
X-Robots-Tag:noindex
X-PUBLISHED-TTL:PT1H
BEGIN:VTIMEZONE
TZID:Europe/Copenhagen
BEGIN:DAYLIGHT
TZOFFSETFROM:+0100
TZOFFSETTO:+0200
TZNAME:CEST
DTSTART:20230326T010000
END:DAYLIGHT
BEGIN:STANDARD
TZOFFSETFROM:+0200
TZOFFSETTO:+0100
TZNAME:CET
DTSTART:20231029T010000
END:STANDARD
BEGIN:DAYLIGHT
TZOFFSETFROM:+0100
TZOFFSETTO:+0200
TZNAME:CEST
DTSTART:20240331T010000
END:DAYLIGHT
BEGIN:STANDARD
TZOFFSETFROM:+0200
TZOFFSETTO:+0100
TZNAME:CET
DTSTART:20241027T010000
END:STANDARD
BEGIN:DAYLIGHT
TZOFFSETFROM:+0100
TZOFFSETTO:+0200
TZNAME:CEST
DTSTART:20250330T010000
END:DAYLIGHT
BEGIN:STANDARD
TZOFFSETFROM:+0200
TZOFFSETTO:+0100
TZNAME:CET
DTSTART:20251026T010000
END:STANDARD
END:VTIMEZONE
BEGIN:VEVENT
DTSTART;TZID=Europe/Copenhagen:20240302T130000
DTEND;TZID=Europe/Copenhagen:20240407T160000
DTSTAMP:20260421T111925
CREATED:20240301T111910Z
LAST-MODIFIED:20240301T111910Z
UID:10000806-1709384400-1712505600@aeglageret.dk
SUMMARY:Æglæggere i Æglageret
DESCRIPTION:Udstilling med gruppen Dyreliv  \n\n marts -7. april 2024\, Fernisering lørdag den 2. marts kl. 13.\n\nDer er et hav af æglæggende dyr – foruden fugle også insekter\, padder og fisk. På udstillingen vil man kunne opleve værker med fugle\, skildpadder\, firben\, frøer\, tudser\, insekter og sommerfugle. \nGruppens 7 medlemmer fortolker temaet ”DYR” bredt\, hvilket vil sige at de tilsammen udtrykker sig i mange forskellige materialer og teknikker. Fascinationen og interessen for dyr er dog et stort fællestræk hos dem alle. \nElna Christiansen\, billedhugger\, www.troldanden.dk\nGina Hedegaard Nielsen\, billedkunstner\nHanne Galschiøt\, billedkunstner\, www.hannegalschioet.dk\nLone Schiøtz Nielsen\, billedkunstner\nMarie Falkenberg Mortensen\, billede – og installationskunstner/papirmager\nSteen Malberg\, maler og tegner\, www.steen-malberg.dk\nTove Møller\, billedkunstner\, www.tovemoeller.dk
URL:https://aeglageret.dk/event/aeglaeggere-i-aeglageret/
LOCATION:Salen
CATEGORIES:Udstilling
ATTACH;FMTTYPE=image/jpeg:https://aeglageret.dk/wp-content/uploads/2024/03/Elna-Christiansen-1.jpg
END:VEVENT
BEGIN:VEVENT
DTSTART;TZID=Europe/Copenhagen:20240413T130000
DTEND;TZID=Europe/Copenhagen:20240413T150000
DTSTAMP:20260421T111925
CREATED:20240411T071828Z
LAST-MODIFIED:20240411T072450Z
UID:10000823-1713013200-1713020400@aeglageret.dk
SUMMARY:Fernisering af udstilling med arkitekterne Lars Kastanje og Lars Ibsen
DESCRIPTION:Fernisering af udstilling med arkitekterne Lars Kastanje og Lars IbsenLørdag den 13. april kl. 13-15 \nAlle er velkomne\, gratis entre
URL:https://aeglageret.dk/event/fernisering-af-udstilling-med-arkitekterne-lars-kastanje-og-lars-ibsen/
LOCATION:Salen
CATEGORIES:Udstilling
END:VEVENT
END:VCALENDAR