BEGIN:VCALENDAR
VERSION:2.0
PRODID:-//ÆGLAGERET – Kunst- og Kulturhus i Holbæk - ECPv6.15.15//NONSGML v1.0//EN
CALSCALE:GREGORIAN
METHOD:PUBLISH
X-WR-CALNAME:ÆGLAGERET – Kunst- og Kulturhus i Holbæk
X-ORIGINAL-URL:https://aeglageret.dk
X-WR-CALDESC:Begivenheder for ÆGLAGERET – Kunst- og Kulturhus i Holbæk
REFRESH-INTERVAL;VALUE=DURATION:PT1H
X-Robots-Tag:noindex
X-PUBLISHED-TTL:PT1H
BEGIN:VTIMEZONE
TZID:Europe/Copenhagen
BEGIN:DAYLIGHT
TZOFFSETFROM:+0100
TZOFFSETTO:+0200
TZNAME:CEST
DTSTART:20210328T010000
END:DAYLIGHT
BEGIN:STANDARD
TZOFFSETFROM:+0200
TZOFFSETTO:+0100
TZNAME:CET
DTSTART:20211031T010000
END:STANDARD
BEGIN:DAYLIGHT
TZOFFSETFROM:+0100
TZOFFSETTO:+0200
TZNAME:CEST
DTSTART:20220327T010000
END:DAYLIGHT
BEGIN:STANDARD
TZOFFSETFROM:+0200
TZOFFSETTO:+0100
TZNAME:CET
DTSTART:20221030T010000
END:STANDARD
BEGIN:DAYLIGHT
TZOFFSETFROM:+0100
TZOFFSETTO:+0200
TZNAME:CEST
DTSTART:20230326T010000
END:DAYLIGHT
BEGIN:STANDARD
TZOFFSETFROM:+0200
TZOFFSETTO:+0100
TZNAME:CET
DTSTART:20231029T010000
END:STANDARD
END:VTIMEZONE
BEGIN:VEVENT
DTSTART;TZID=Europe/Copenhagen:20220226T130000
DTEND;TZID=Europe/Copenhagen:20220226T150000
DTSTAMP:20260423T021310
CREATED:20220128T114226Z
LAST-MODIFIED:20220222T103052Z
UID:10000251-1645880400-1645887600@aeglageret.dk
SUMMARY:Fernisering VK22
DESCRIPTION:Holbæk Kunstforening byder velkommen til en festlig fernisering af VK22 – den 38. åbne censurerede kunstudstilling i Vestsjælland.\nVK22 udstillingen kan ses til og med søndag d. 27. marts 2022 i Æglagerets åbningstid.
URL:https://aeglageret.dk/event/fernisering-vk22/
LOCATION:Salen
CATEGORIES:Udstilling
ATTACH;FMTTYPE=image/jpeg:https://aeglageret.dk/wp-content/uploads/2022/02/VK-2022-fernis.jpeg
END:VEVENT
END:VCALENDAR