BEGIN:VCALENDAR
VERSION:2.0
PRODID:-//ÆGLAGERET – Kunst- og Kulturhus i Holbæk - ECPv6.15.15//NONSGML v1.0//EN
CALSCALE:GREGORIAN
METHOD:PUBLISH
X-WR-CALNAME:ÆGLAGERET – Kunst- og Kulturhus i Holbæk
X-ORIGINAL-URL:https://aeglageret.dk
X-WR-CALDESC:Begivenheder for ÆGLAGERET – Kunst- og Kulturhus i Holbæk
REFRESH-INTERVAL;VALUE=DURATION:PT1H
X-Robots-Tag:noindex
X-PUBLISHED-TTL:PT1H
BEGIN:VTIMEZONE
TZID:Europe/Copenhagen
BEGIN:DAYLIGHT
TZOFFSETFROM:+0100
TZOFFSETTO:+0200
TZNAME:CEST
DTSTART:20210328T010000
END:DAYLIGHT
BEGIN:STANDARD
TZOFFSETFROM:+0200
TZOFFSETTO:+0100
TZNAME:CET
DTSTART:20211031T010000
END:STANDARD
BEGIN:DAYLIGHT
TZOFFSETFROM:+0100
TZOFFSETTO:+0200
TZNAME:CEST
DTSTART:20220327T010000
END:DAYLIGHT
BEGIN:STANDARD
TZOFFSETFROM:+0200
TZOFFSETTO:+0100
TZNAME:CET
DTSTART:20221030T010000
END:STANDARD
BEGIN:DAYLIGHT
TZOFFSETFROM:+0100
TZOFFSETTO:+0200
TZNAME:CEST
DTSTART:20230326T010000
END:DAYLIGHT
BEGIN:STANDARD
TZOFFSETFROM:+0200
TZOFFSETTO:+0100
TZNAME:CET
DTSTART:20231029T010000
END:STANDARD
END:VTIMEZONE
BEGIN:VEVENT
DTSTART;TZID=Europe/Copenhagen:20220402T130000
DTEND;TZID=Europe/Copenhagen:20220508T160000
DTSTAMP:20260423T000005
CREATED:20220407T061600Z
LAST-MODIFIED:20220407T061600Z
UID:10000274-1648904400-1652025600@aeglageret.dk
SUMMARY:Fotoudstilling "Lige i øjeblikket\, står tiden stille"
DESCRIPTION:v. FOTOGRAFERNE:\nMichael Abel\nErik Nørgård Gravesen\nAnneli Kunosson\nAnnette Ringgaard\nTaini Stieper \nBemærk: Artist Talk i Æglageret torsdag d. 7. april kl. 19.\nKom og mød de 5 fotografer\, og hør dem fortælle om deres baggrund\, tilgang til fotografiet\, teknik m.m. \nFotoudstillingen kan ses i Æglageret til og med søndag d. 8. maj 2022 \nEntré: kr. 20\nPå ferniseringsdagen gratis adgang \nSe video med introduktion til udstillingen her: https://youtu.be/2XwCVIs4k8Y
URL:https://aeglageret.dk/event/fotoudstilling-lige-i-oejeblikket-staar-tiden-stille/
LOCATION:Salen
CATEGORIES:Udstilling
ATTACH;FMTTYPE=image/jpeg:https://aeglageret.dk/wp-content/uploads/2022/03/Michael-Abel-foto-plakat.jpg
END:VEVENT
END:VCALENDAR