BEGIN:VCALENDAR
VERSION:2.0
PRODID:-//ÆGLAGERET – Kunst- og Kulturhus i Holbæk - ECPv6.15.15//NONSGML v1.0//EN
CALSCALE:GREGORIAN
METHOD:PUBLISH
X-WR-CALNAME:ÆGLAGERET – Kunst- og Kulturhus i Holbæk
X-ORIGINAL-URL:https://aeglageret.dk
X-WR-CALDESC:Begivenheder for ÆGLAGERET – Kunst- og Kulturhus i Holbæk
REFRESH-INTERVAL;VALUE=DURATION:PT1H
X-Robots-Tag:noindex
X-PUBLISHED-TTL:PT1H
BEGIN:VTIMEZONE
TZID:Europe/Copenhagen
BEGIN:DAYLIGHT
TZOFFSETFROM:+0100
TZOFFSETTO:+0200
TZNAME:CEST
DTSTART:20210328T010000
END:DAYLIGHT
BEGIN:STANDARD
TZOFFSETFROM:+0200
TZOFFSETTO:+0100
TZNAME:CET
DTSTART:20211031T010000
END:STANDARD
BEGIN:DAYLIGHT
TZOFFSETFROM:+0100
TZOFFSETTO:+0200
TZNAME:CEST
DTSTART:20220327T010000
END:DAYLIGHT
BEGIN:STANDARD
TZOFFSETFROM:+0200
TZOFFSETTO:+0100
TZNAME:CET
DTSTART:20221030T010000
END:STANDARD
BEGIN:DAYLIGHT
TZOFFSETFROM:+0100
TZOFFSETTO:+0200
TZNAME:CEST
DTSTART:20230326T010000
END:DAYLIGHT
BEGIN:STANDARD
TZOFFSETFROM:+0200
TZOFFSETTO:+0100
TZNAME:CET
DTSTART:20231029T010000
END:STANDARD
END:VTIMEZONE
BEGIN:VEVENT
DTSTART;TZID=Europe/Copenhagen:20220514T130000
DTEND;TZID=Europe/Copenhagen:20220619T160000
DTSTAMP:20260422T211624
CREATED:20220508T095351Z
LAST-MODIFIED:20220511T051955Z
UID:10000285-1652533200-1655654400@aeglageret.dk
SUMMARY:Billedkunstner Simon Bang i Æglageret
DESCRIPTION:Holbæk Kunstforening byder velkommen til udstilling med billedkunstner Simon Bang \nFernisering lørdag d. 14. maj 2022 kl. 13-15 – hvor Simon Bang er til stede\, og kunstneren fortæller om sine malerier. \nDet er mennesketomme motiver; bydele\, huse\, gader\, veje\, og landskaber\, der først rammer os\, når vi ser ind i Simon Bangs billedunivers. Vi bliver faktisk suget ind i kompositionen\, enten via et stærkt ledende perspektiv\, som om vi selv går på den vej eller gade\, som ofte er del af motiverne\, men også den stemningsmættede iscenesættelse\, som også er et gennemgående træk. \nVi er i den mørke tid på dagen; skumringen\, den blå time eller natten\, men altid delvis oplyst af det kunstige lys fra gadebelysningen\, butiksvinduer eller trafiklys. Lige på den anden side af lyset lurer mørket\, dæmonerne og det farlige. Det mørklagte\, der som en modvægt til det oplyste\, bliver til en allegori over både sindet og verdens konstante tilstand; skønhed og gru. Mørke og lys. Død og liv. \nSimon Bang maler ikke kun det vi umiddelbart ser\, men altid med noget mere; som får os til at stoppe og dykke længere ind i sindet\, både vores eget\, men også malerens. Hvad er det han vil have os til at se? Hvorfor maler han ikke bare det grusomme\, helt åbenlyst? Hvorfor leger han med den dobbelthed\, hvor det skønne og tilgængelige hele tiden har en dyster og utilgængelig side. Måske er det sådan livet er; At der altid\, lige ved siden af lyset\, findes det totale mørke. \nDet er figurative malerier\, der med sikker hånd maler motiverne. Til gengæld er farveskalaen helt ude i det modsatte; stærke farvekontraster og især rød er en gennemgående farve\, men det forstærker oplevelsen og når man har fået kalibreret sine øjne\, så virker det alligevel helt naturligt. \nUdstillingen hedder ”Simon Bang i Holbæk”\, men motiverne er hovedsageligt fra hans lokalområde på Østerbro i København\, Sjællandske og Fynske landskaber. Simon Bang har skabt årsplakaten til ”Æglageret” hvor udstillingen også kan ses. Fra d. 14. maj til 19. juni 2022. \nLæs mere om Simon Bang her: https://simonbang.art/ \nSe glimt fra Simon Bangs praksis på videoen her: https://www.youtube.com/watch?v=h78pS1duaXE \nEntré: kr. 20\nPå ferniseringsdagen gratis adgang
URL:https://aeglageret.dk/event/billedkunstner-simon-bang-i-aeglageret/
LOCATION:Salen
CATEGORIES:Udstilling
ATTACH;FMTTYPE=image/jpeg:https://aeglageret.dk/wp-content/uploads/2022/05/Simon-Bang_Holbaek-Kunstforening-Plakat_2-scaled.jpg
END:VEVENT
END:VCALENDAR