BEGIN:VCALENDAR
VERSION:2.0
PRODID:-//ÆGLAGERET – Kunst- og Kulturhus i Holbæk - ECPv6.15.15//NONSGML v1.0//EN
CALSCALE:GREGORIAN
METHOD:PUBLISH
X-WR-CALNAME:ÆGLAGERET – Kunst- og Kulturhus i Holbæk
X-ORIGINAL-URL:https://aeglageret.dk
X-WR-CALDESC:Begivenheder for ÆGLAGERET – Kunst- og Kulturhus i Holbæk
REFRESH-INTERVAL;VALUE=DURATION:PT1H
X-Robots-Tag:noindex
X-PUBLISHED-TTL:PT1H
BEGIN:VTIMEZONE
TZID:Europe/Copenhagen
BEGIN:DAYLIGHT
TZOFFSETFROM:+0100
TZOFFSETTO:+0200
TZNAME:CEST
DTSTART:20210328T010000
END:DAYLIGHT
BEGIN:STANDARD
TZOFFSETFROM:+0200
TZOFFSETTO:+0100
TZNAME:CET
DTSTART:20211031T010000
END:STANDARD
BEGIN:DAYLIGHT
TZOFFSETFROM:+0100
TZOFFSETTO:+0200
TZNAME:CEST
DTSTART:20220327T010000
END:DAYLIGHT
BEGIN:STANDARD
TZOFFSETFROM:+0200
TZOFFSETTO:+0100
TZNAME:CET
DTSTART:20221030T010000
END:STANDARD
BEGIN:DAYLIGHT
TZOFFSETFROM:+0100
TZOFFSETTO:+0200
TZNAME:CEST
DTSTART:20230326T010000
END:DAYLIGHT
BEGIN:STANDARD
TZOFFSETFROM:+0200
TZOFFSETTO:+0100
TZNAME:CET
DTSTART:20231029T010000
END:STANDARD
END:VTIMEZONE
BEGIN:VEVENT
DTSTART;TZID=Europe/Copenhagen:20220806T130000
DTEND;TZID=Europe/Copenhagen:20220904T160000
DTSTAMP:20260422T173213
CREATED:20220801T144725Z
LAST-MODIFIED:20220801T144725Z
UID:10000293-1659790800-1662307200@aeglageret.dk
SUMMARY:Liza Krügermeier\, Holger Bak og Sebastian Jakobsen i Æglageret
DESCRIPTION:Holbæk Kunstforening byder varmt velkommen til sensommerudstilling med Liza Krügermeier\, Holger Bak (begge oliemalerier) og Sebastian Jakobsen. \nFernisering lørdag d. 6. august kl. 13 – 15.\nUdstillingen kan ses i Æglagerets åbningstide til og med søndag d. 4. september 2022
URL:https://aeglageret.dk/event/liza-krugermeier-holger-bak-og-sebastian-jakobsen-i-aeglageret/
LOCATION:Salen
CATEGORIES:Udstilling
ATTACH;FMTTYPE=image/jpeg:https://aeglageret.dk/wp-content/uploads/2022/08/Liza-Holger-Sebastian-plakat.jpg
END:VEVENT
END:VCALENDAR