BEGIN:VCALENDAR
VERSION:2.0
PRODID:-//ÆGLAGERET – Kunst- og Kulturhus i Holbæk - ECPv6.15.15//NONSGML v1.0//EN
CALSCALE:GREGORIAN
METHOD:PUBLISH
X-WR-CALNAME:ÆGLAGERET – Kunst- og Kulturhus i Holbæk
X-ORIGINAL-URL:https://aeglageret.dk
X-WR-CALDESC:Begivenheder for ÆGLAGERET – Kunst- og Kulturhus i Holbæk
REFRESH-INTERVAL;VALUE=DURATION:PT1H
X-Robots-Tag:noindex
X-PUBLISHED-TTL:PT1H
BEGIN:VTIMEZONE
TZID:Europe/Copenhagen
BEGIN:DAYLIGHT
TZOFFSETFROM:+0100
TZOFFSETTO:+0200
TZNAME:CEST
DTSTART:20210328T010000
END:DAYLIGHT
BEGIN:STANDARD
TZOFFSETFROM:+0200
TZOFFSETTO:+0100
TZNAME:CET
DTSTART:20211031T010000
END:STANDARD
BEGIN:DAYLIGHT
TZOFFSETFROM:+0100
TZOFFSETTO:+0200
TZNAME:CEST
DTSTART:20220327T010000
END:DAYLIGHT
BEGIN:STANDARD
TZOFFSETFROM:+0200
TZOFFSETTO:+0100
TZNAME:CET
DTSTART:20221030T010000
END:STANDARD
BEGIN:DAYLIGHT
TZOFFSETFROM:+0100
TZOFFSETTO:+0200
TZNAME:CEST
DTSTART:20230326T010000
END:DAYLIGHT
BEGIN:STANDARD
TZOFFSETFROM:+0200
TZOFFSETTO:+0100
TZNAME:CET
DTSTART:20231029T010000
END:STANDARD
END:VTIMEZONE
BEGIN:VEVENT
DTSTART;TZID=Europe/Copenhagen:20220910T130000
DTEND;TZID=Europe/Copenhagen:20221009T160000
DTSTAMP:20260422T154513
CREATED:20220506T121930Z
LAST-MODIFIED:20221008T121213Z
UID:10000283-1662814800-1665331200@aeglageret.dk
SUMMARY:Aktuel udstilling: Daniel Brophy & Peter Hesk
DESCRIPTION:Holbæk Kunstforening byder varmt velkommen til fernisering med Daniel Brophy – Maleri / mixed media på lærred – og Peter Hesk\, bronzeskulpturer \nLørdag d. 10. september kl. 13 – 15 \nUdstillingen kan ses i Æglageret til og med søndag d. 9. oktober 2022 \nOm Daniel Brophy: \nDaniel Brophy er storbykunstner. Ingen tvivl om det. Men hvis man bevæger sig bare en smule tættere på de rå gadebilleder\, højhusene\, skorstene og broerne af oplyst beton\, udfolder sig en anden verden. En verden af detaljer\, hvor kunstneren ikke blot betragter og beskriver\, men også forholder sig til det han oplever\, og med sine helt egne teknikker folder en anden og måske mere ukendt verden ud for beskueren. \nBrophy\, der oprindeligt er fra New Jersey\, ønsker ikke at please sit publikum\, hans værker skal fortælle historier. Og han har masser af historier at fortælle. Hvert værk sin fortælling – lille eller stor\, et Brophyværk tager (ligesom en Bob Dylan sang) den tid det skal tage. \nMen storbyens rå toner og fortællinger er ikke det eneste Brophy beskæftiger sig med. Han forlader lige så tit byen og bygger sine egne byer og landskaber op – lag på lag med finurlige detaljer og til tider både skræmmende og morsomme indslag. Og de er altid værd at gå på opdagelse i. \nTør man give sig hen og helt ind i værkerne\, bliver man inviteret på en rejse ind i Brophys ekstremt på én gang simple og detaljerige univers med kendte personer\, fabeldyr og ikke mindst oplevelser og tolkninger af hændelser og forløb fra kunstnerens eget liv. Det er historier fra en tid og et miljø præget af menneskets påvirkning på naturen. Historier fra hans eget liv som han husker og oplevede dem. \nSå Daniel Brophy er altså ikke kun storbykunstner. Adressen i Newark er nu skiftet ud med en ny og anderledes ramme i Holbæk\, men det har på ingen måde taget brodden af Brophys arbejde – tværtimod synes hans værker at blive mere og mere nærværende. I sine seneste værker inviterer han os indenfor i stuerne hos kunstnere og kreative sjæle\, der udlever deres drømme og livsværk. \nDaniel Brophy er uddannet i billedkunst og kunsthistorie på Kean University i New Jersey og er for tiden i gang med sin kandidat i billedkunst på Vermont College of Fine Arts. Han har udstillet i New York\, New Jersey\, Miami\, Polen og Danmark. \nLæs mere her: www.danielbrophy.com og her: www.peterhesk.dk
URL:https://aeglageret.dk/event/aktuel-udstilling-daniel-brophy-peter-hesk/
LOCATION:Salen
CATEGORIES:Udstilling
ATTACH;FMTTYPE=image/jpeg:https://aeglageret.dk/wp-content/uploads/2022/09/daniel-Brophy-fernis.jpeg
END:VEVENT
END:VCALENDAR