BEGIN:VCALENDAR
VERSION:2.0
PRODID:-//ÆGLAGERET – Kunst- og Kulturhus i Holbæk - ECPv6.15.15//NONSGML v1.0//EN
CALSCALE:GREGORIAN
METHOD:PUBLISH
X-ORIGINAL-URL:https://aeglageret.dk
X-WR-CALDESC:Begivenheder for ÆGLAGERET – Kunst- og Kulturhus i Holbæk
REFRESH-INTERVAL;VALUE=DURATION:PT1H
X-Robots-Tag:noindex
X-PUBLISHED-TTL:PT1H
BEGIN:VTIMEZONE
TZID:Europe/Copenhagen
BEGIN:DAYLIGHT
TZOFFSETFROM:+0100
TZOFFSETTO:+0200
TZNAME:CEST
DTSTART:20210328T010000
END:DAYLIGHT
BEGIN:STANDARD
TZOFFSETFROM:+0200
TZOFFSETTO:+0100
TZNAME:CET
DTSTART:20211031T010000
END:STANDARD
BEGIN:DAYLIGHT
TZOFFSETFROM:+0100
TZOFFSETTO:+0200
TZNAME:CEST
DTSTART:20220327T010000
END:DAYLIGHT
BEGIN:STANDARD
TZOFFSETFROM:+0200
TZOFFSETTO:+0100
TZNAME:CET
DTSTART:20221030T010000
END:STANDARD
BEGIN:DAYLIGHT
TZOFFSETFROM:+0100
TZOFFSETTO:+0200
TZNAME:CEST
DTSTART:20230326T010000
END:DAYLIGHT
BEGIN:STANDARD
TZOFFSETFROM:+0200
TZOFFSETTO:+0100
TZNAME:CET
DTSTART:20231029T010000
END:STANDARD
END:VTIMEZONE
BEGIN:VEVENT
DTSTART;TZID=Europe/Copenhagen:20221119T130000
DTEND;TZID=Europe/Copenhagen:20221221T170000
DTSTAMP:20260422T131459
CREATED:20221117T090722Z
LAST-MODIFIED:20221117T090722Z
UID:10000325-1668862800-1671642000@aeglageret.dk
SUMMARY:Aktuel Udstilling: "Fod i Hose – Hånd i Hanske"
DESCRIPTION:Fod i Hose – Hånd i Handske\n\nUdstilling i Æglageret fra 19. november – 21. december 2023\n\nFernisering 19. november kl. 13-15\n\nMedvirkende:\nClaydies ved Tine Broksø og Karen Kjærgaard-Larsen\nHILSE ved Helen Hemsley/Sidsel Götke\nAne Henriksen\nAnette Jensen\nEllen Bangsbo\nVibeke Rohland\nKamilla Jørgensen\nMichala Paludan\nLasse Krog Møller\nLis Rejnert Jensen\nAnne Mette Schultz\nKatrine Borup\nMarianne T. Pedersen\nHanne Radzik\nSiri Kollandsrud / Niels Plenge\nSiri Kollandsrud\nSusan Liebe\nAnne Fabricius Møller\nLisbet Thorborg Andersen\nSky Lucy Young\nTidens Spor\nAnne Bårdsgård /forlaget Turbine\nPUTPUT ved Stephan Friedli/Ulrik Martin Larsen\n\nEn udstilling om to uopbrugelige emner\, der er lige ved hånden og ligger for ens fødder.\nEmnerne er enkle: hænder og fødder med dertil hørende vanter\, strømper\, hoser og handsker.\nDe mange deltagere på ’Fod i Hose – Hånd i Handske’ er fagligt vidtfavnende\, og deres faglighed ganske alsidig.\nDeltagerne er Billedkunstnere\, Tekstildesignere\, Keramikere\, Designere\, Stoftrykkere\, Tekstilkunstnere\, Vævere\, Smykkekunstnere\, Grafikere\, Forfattere\, Beklædningsdesignere.\n\nMed vævede\, designede\, støbte\, trykte\, fotograferede værker\, desuden fodtryk\, bogtryk\, håndtryk\, fodaftryk\, billedvævning\, skulptur\, sandstøbt\, smykker\, fotografi\, scanninger\, samlinger\, video\, linoleumssnit\, fotodigte\, væv\, byløvfald\, selfies og genbrug.\n\nFra 1976 til dags dato.\n\nEntré kr. 20\,-\nPå ferniseringsdagen gratis
URL:https://aeglageret.dk/event/aktuel-udstilling-fod-i-hose-haand-i-hanske/
LOCATION:Salen
CATEGORIES:Udstilling
ATTACH;FMTTYPE=image/jpeg:https://aeglageret.dk/wp-content/uploads/2022/11/Aeglageret_A3_02.jpg
END:VEVENT
END:VCALENDAR