BEGIN:VCALENDAR
VERSION:2.0
PRODID:-//ÆGLAGERET – Kunst- og Kulturhus i Holbæk - ECPv6.15.15//NONSGML v1.0//EN
CALSCALE:GREGORIAN
METHOD:PUBLISH
X-ORIGINAL-URL:https://aeglageret.dk
X-WR-CALDESC:Begivenheder for ÆGLAGERET – Kunst- og Kulturhus i Holbæk
REFRESH-INTERVAL;VALUE=DURATION:PT1H
X-Robots-Tag:noindex
X-PUBLISHED-TTL:PT1H
BEGIN:VTIMEZONE
TZID:Europe/Copenhagen
BEGIN:DAYLIGHT
TZOFFSETFROM:+0100
TZOFFSETTO:+0200
TZNAME:CEST
DTSTART:20220327T010000
END:DAYLIGHT
BEGIN:STANDARD
TZOFFSETFROM:+0200
TZOFFSETTO:+0100
TZNAME:CET
DTSTART:20221030T010000
END:STANDARD
BEGIN:DAYLIGHT
TZOFFSETFROM:+0100
TZOFFSETTO:+0200
TZNAME:CEST
DTSTART:20230326T010000
END:DAYLIGHT
BEGIN:STANDARD
TZOFFSETFROM:+0200
TZOFFSETTO:+0100
TZNAME:CET
DTSTART:20231029T010000
END:STANDARD
BEGIN:DAYLIGHT
TZOFFSETFROM:+0100
TZOFFSETTO:+0200
TZNAME:CEST
DTSTART:20240331T010000
END:DAYLIGHT
BEGIN:STANDARD
TZOFFSETFROM:+0200
TZOFFSETTO:+0100
TZNAME:CET
DTSTART:20241027T010000
END:STANDARD
END:VTIMEZONE
BEGIN:VEVENT
DTSTART;TZID=Europe/Copenhagen:20230121T130000
DTEND;TZID=Europe/Copenhagen:20230219T160000
DTSTAMP:20260422T113933
CREATED:20230118T105025Z
LAST-MODIFIED:20230125T123414Z
UID:10000530-1674306000-1676822400@aeglageret.dk
SUMMARY:Aktuel Udstilling: VK23
DESCRIPTION:Holbæk Kunstforening byder velkommen til VK23 \nDen 39. censurerede kunstudstilling i Vestsjælland \n\nmed maleri\, akvarel\, grafik\, tegning og collage\, foto\, skulptur\, keramik\, tekstil\, glas\, smykker\, video og New Media.\n\nCensorer: Mette Rishøj\, Simon Bang og Søren Rønholt \nHolbæk Kunstforening ønsker stort tillykke til de 28 (af 133 tilmeldte) kunstnere\, der er antaget til VK23 med i alt 44 værker (af 690 indsendte): \nCille Tovgaard\nChristian Harbsmeier Brøgger\nErik Jørgensen\nGunne Lykke Gorell\nHanna Bjerno\nKirsten Hansen\nKristin Wiborg\nLaura Bach Skou\nLinda Sandbjerg\nMaj Manczak\nMarianne Gramstrup\nMartin Drescher\nMichael Greve\nLine Højmann\nLis Pedersen\nMichael Abel\nNina Kathrin Schlemm\nOlaf Christiani\nPernille Enoch\nPia Obel\nRikke Stiig\nRosamynte Munch\nStine Yde\nSusanne Bang Dahl\nSusanne Luup\nTina Sommer Paaske\nVita Bente Pedersen\nXenia Michaelsen \nOgså stort tillykke til de 4 kunstnere\, der af censorerne er udpeget til at modtage årets VK23 priser: \nVK23 1. pris: Pia Obel for værket “Krigsbarn” \nVK23 2. pris: Christian Harbsmeier Brøgger for værket “Vores uforstyrrede timer” \nVK23 3. pris: Linda Sandberg for værket “Udveje” \nPlakatpris VK23: Cille Torgaard for værket “Arteria Laonica” \nPræsentation af de 4 VK23 prisvindere og samtlige antagne værker kan findes på Æglagerets Facebook side her: https://www.facebook.com/aeglageret \nFernisering VK23 lørdag d. 21. januar kl. 13 – 15 \nPå ferniseringsdagen afsløres de 4 VK23 vindere af h.h.v. 1. pris kr. 5.000\,-\, 2. pris kr. 3.000\, 3. pris kr. 1.500 samt plakatpris (til VK24) kr. 1.000 \nI udstillingsperioden kan publikum desuden stemme om valg af årets publikumspris\, kr. 1.000\,- \n  \nVK23 udstillingen kan ses i Æglageret til og med søndag d. 19. februar 2023 \n\n\n\nEntré kr. 20\,-\nPå ferniseringsdagen gratis\n\nPlakatmotiv VK23:\nPlakatpris VK22\n”Anger\, fear\, revenge 1”\nSigne Rømer Juul
URL:https://aeglageret.dk/event/aktuel-udstilling-vk23/
LOCATION:Salen
CATEGORIES:Udstilling
ATTACH;FMTTYPE=image/jpeg:https://aeglageret.dk/wp-content/uploads/2023/01/VK23_A3_plakat.jpg
END:VEVENT
END:VCALENDAR