BEGIN:VCALENDAR
VERSION:2.0
PRODID:-//ÆGLAGERET – Kunst- og Kulturhus i Holbæk - ECPv6.15.15//NONSGML v1.0//EN
CALSCALE:GREGORIAN
METHOD:PUBLISH
X-ORIGINAL-URL:https://aeglageret.dk
X-WR-CALDESC:Begivenheder for ÆGLAGERET – Kunst- og Kulturhus i Holbæk
REFRESH-INTERVAL;VALUE=DURATION:PT1H
X-Robots-Tag:noindex
X-PUBLISHED-TTL:PT1H
BEGIN:VTIMEZONE
TZID:Europe/Copenhagen
BEGIN:DAYLIGHT
TZOFFSETFROM:+0100
TZOFFSETTO:+0200
TZNAME:CEST
DTSTART:20220327T010000
END:DAYLIGHT
BEGIN:STANDARD
TZOFFSETFROM:+0200
TZOFFSETTO:+0100
TZNAME:CET
DTSTART:20221030T010000
END:STANDARD
BEGIN:DAYLIGHT
TZOFFSETFROM:+0100
TZOFFSETTO:+0200
TZNAME:CEST
DTSTART:20230326T010000
END:DAYLIGHT
BEGIN:STANDARD
TZOFFSETFROM:+0200
TZOFFSETTO:+0100
TZNAME:CET
DTSTART:20231029T010000
END:STANDARD
BEGIN:DAYLIGHT
TZOFFSETFROM:+0100
TZOFFSETTO:+0200
TZNAME:CEST
DTSTART:20240331T010000
END:DAYLIGHT
BEGIN:STANDARD
TZOFFSETFROM:+0200
TZOFFSETTO:+0100
TZNAME:CET
DTSTART:20241027T010000
END:STANDARD
END:VTIMEZONE
BEGIN:VEVENT
DTSTART;TZID=Europe/Copenhagen:20230805T130000
DTEND;TZID=Europe/Copenhagen:20230903T160000
DTSTAMP:20260422T031147
CREATED:20230517T060623Z
LAST-MODIFIED:20230714T081523Z
UID:10000603-1691240400-1693756800@aeglageret.dk
SUMMARY:Grazyna Gotz\, billedkunst
DESCRIPTION:Holbæk Kunstforening byder varmt velkommen til sensommerudstillingen i Æglageret\, “Billedets rum” med polskfødte Grazyna Gotz \nFernisering lørdag d. 5. august 2023 kl. 13-15 \nUdstillingen kan ses til og med søndag d. 3. september 2023. \nLæs mere om udstillingen HER
URL:https://aeglageret.dk/event/grazyna-gotz-billedkunst/
LOCATION:Salen
CATEGORIES:Udstilling
ATTACH;FMTTYPE=image/jpeg:https://aeglageret.dk/wp-content/uploads/2023/07/Aeglager_Grazyna_0823.jpg
END:VEVENT
END:VCALENDAR