BEGIN:VCALENDAR
VERSION:2.0
PRODID:-//ÆGLAGERET – Kunst- og Kulturhus i Holbæk - ECPv6.15.15//NONSGML v1.0//EN
CALSCALE:GREGORIAN
METHOD:PUBLISH
X-ORIGINAL-URL:https://aeglageret.dk
X-WR-CALDESC:Begivenheder for ÆGLAGERET – Kunst- og Kulturhus i Holbæk
REFRESH-INTERVAL;VALUE=DURATION:PT1H
X-Robots-Tag:noindex
X-PUBLISHED-TTL:PT1H
BEGIN:VTIMEZONE
TZID:Europe/Copenhagen
BEGIN:DAYLIGHT
TZOFFSETFROM:+0100
TZOFFSETTO:+0200
TZNAME:CEST
DTSTART:20220327T010000
END:DAYLIGHT
BEGIN:STANDARD
TZOFFSETFROM:+0200
TZOFFSETTO:+0100
TZNAME:CET
DTSTART:20221030T010000
END:STANDARD
BEGIN:DAYLIGHT
TZOFFSETFROM:+0100
TZOFFSETTO:+0200
TZNAME:CEST
DTSTART:20230326T010000
END:DAYLIGHT
BEGIN:STANDARD
TZOFFSETFROM:+0200
TZOFFSETTO:+0100
TZNAME:CET
DTSTART:20231029T010000
END:STANDARD
BEGIN:DAYLIGHT
TZOFFSETFROM:+0100
TZOFFSETTO:+0200
TZNAME:CEST
DTSTART:20240331T010000
END:DAYLIGHT
BEGIN:STANDARD
TZOFFSETFROM:+0200
TZOFFSETTO:+0100
TZNAME:CET
DTSTART:20241027T010000
END:STANDARD
END:VTIMEZONE
BEGIN:VEVENT
DTSTART;TZID=Europe/Copenhagen:20230909T130000
DTEND;TZID=Europe/Copenhagen:20231015T160000
DTSTAMP:20260422T020622
CREATED:20230517T060919Z
LAST-MODIFIED:20230907T073222Z
UID:10000605-1694264400-1697385600@aeglageret.dk
SUMMARY:Michael á Grømma og Johanne Helga Heiberg\, billedkunst og tekstil
DESCRIPTION:Holbæk Kunstforening byder velkommen til sensommerudstillingen “Dagene” med billedkunstner Johanne Helga Heiberg og billedkunstner Michael á Grømma \nFernisering lørdag d. 9. september kl. 13-15. \n  \nOm udstillingen: \n“Dagene”\n \nVærkerne i udstillingen er omhyggelige notater over dagene. \nDet er dagene sammen\, dagene op til\, dagene efter\, dagene alene. Dage\, der flyder\, halter\, slæber sig. I malerierne føres vi ind i værelser fulde af ting\, ejendele der er samlet sammen over tid\, passet på eller forlagt. Alt det\, der omgav nogen for en tid\, udgjorde et hjem og senere blev omgivelser for andre. \nMalerierne er som et dagbogsnotat\, en omsorgsfuld registrering af noget\, der bør genkendes. \nDet genkendelige går igen i tekstil-værkernes motiver. Her beskrives handlinger\, der udføres i det daglige\, hænder i bevægelse. Kroppe\, der hviler sig. Vi befinder os stadig i det hjemlige\, men her er det ikke defineret af et rum\, snarere af det\, der udspiller sig. \n– \nOm kunstnerne: \nMichael á Grømma f. 1983 bor og arbejder i København \nMichael undersøger i maleriet savnet og vægten af denne i forbindelse med dødsfald i den nærmeste familie. \nHan undersøger vægten af de ting\, der arves og den ærefrygt som tilfalder tingene\, når de nedarves. \nMichael har udstillet på blandt andet Kunstnernes Efterårsudstilling og Kunstraum Kreuzberg i Berlin. Han er medlem af kunstnersammenslutningen Cromisterne og repræsenteres til dagligt af Galleri Christoffer Egelund. \n  \nJohanne Helga Heiberg f. 1987 bor og arbejder i København. \nJohanne Helga Heiberg oversætter papir og streger til tekstiler og sting i sine broderede billeder. Hun afsøger tegningens skulpturelle muligheder og higer efter et sanseligt og nærværende møde mellem værket og beskueren. I sine motiver reflekterer Johanne Helga Heiberg over grænserne mellem det intime og det fælles rum. \nJohanne Helga Heiberg er uddannet fra Det Fynske Kunstakademi i 2015. Hun har blandt andet udgivet de grafiske romaner Dear Frida og I have my heart in my mouth\, samt illustreret bogen Dronning over verdens magter. Hun har modtaget arbejdslegater fra Statens Kunstfond\, Herman Madsens og Charlotte Henriksens hæderslegat og Silkeborg kunstnerlegat 2023. \nHun er medlem af kunstnersammenslutningen Cromisterne og repræsenteret hos Format Artspace og Skitsehandlen. \n– \nUdstillingen kan ses i Æglageret til og med søndag d. 15. oktober\nÅbningstider tirsdag – fredag kl. 11-17\, lørdag kl. 11-14 og søndag kl. 13-16. Lukket mandag. \n \nJohanne Helga Heiberg \nPlakatmotiv\, Michael á Grømma “Min mor fik aldrig et nyt køkken\, men hun fik en ny seng”
URL:https://aeglageret.dk/event/michael-a-groemma-og-johanne-helga-heiberg-billedkunst-og-tekstil/
LOCATION:Salen
CATEGORIES:Udstilling
ATTACH;FMTTYPE=image/jpeg:https://aeglageret.dk/wp-content/uploads/2023/05/Aeglager_A3_0923-scaled.jpg
END:VEVENT
END:VCALENDAR