BEGIN:VCALENDAR
VERSION:2.0
PRODID:-//ÆGLAGERET – Kunst- og Kulturhus i Holbæk - ECPv6.15.15//NONSGML v1.0//EN
CALSCALE:GREGORIAN
METHOD:PUBLISH
X-WR-CALNAME:ÆGLAGERET – Kunst- og Kulturhus i Holbæk
X-ORIGINAL-URL:https://aeglageret.dk
X-WR-CALDESC:Begivenheder for ÆGLAGERET – Kunst- og Kulturhus i Holbæk
REFRESH-INTERVAL;VALUE=DURATION:PT1H
X-Robots-Tag:noindex
X-PUBLISHED-TTL:PT1H
BEGIN:VTIMEZONE
TZID:Europe/Copenhagen
BEGIN:DAYLIGHT
TZOFFSETFROM:+0100
TZOFFSETTO:+0200
TZNAME:CEST
DTSTART:20220327T010000
END:DAYLIGHT
BEGIN:STANDARD
TZOFFSETFROM:+0200
TZOFFSETTO:+0100
TZNAME:CET
DTSTART:20221030T010000
END:STANDARD
BEGIN:DAYLIGHT
TZOFFSETFROM:+0100
TZOFFSETTO:+0200
TZNAME:CEST
DTSTART:20230326T010000
END:DAYLIGHT
BEGIN:STANDARD
TZOFFSETFROM:+0200
TZOFFSETTO:+0100
TZNAME:CET
DTSTART:20231029T010000
END:STANDARD
BEGIN:DAYLIGHT
TZOFFSETFROM:+0100
TZOFFSETTO:+0200
TZNAME:CEST
DTSTART:20240331T010000
END:DAYLIGHT
BEGIN:STANDARD
TZOFFSETFROM:+0200
TZOFFSETTO:+0100
TZNAME:CET
DTSTART:20241027T010000
END:STANDARD
END:VTIMEZONE
BEGIN:VEVENT
DTSTART;TZID=Europe/Copenhagen:20231001T080000
DTEND;TZID=Europe/Copenhagen:20231030T170000
DTSTAMP:20260422T005710
CREATED:20230907T101721Z
LAST-MODIFIED:20230907T101721Z
UID:10000635-1696147200-1698685200@aeglageret.dk
SUMMARY:Tilmelding VK24
DESCRIPTION:Holbæk Kunstforening glæder sig til at byde velkommen til VK24!\nDen 40. censurerede kunstudstilling i Vestsjælland med maleri\, akvarel\, grafik\, tegning og collage\, foto\, skulptur\, keramik\, tekstil\, glas\, smykker\, design\, video og New Media. \nFølg med her – og på vores særlige tilmeldings hjemmeside www.vk-tilmelding.dk \nTidsplan VK24: \n01.10.2023 – Tilmelding og betaling til VK24 åbner\n30.10.2023 – Frist for tilmelding og betaling\n08.11.2023 – Frist for upload af max 6 digitale værker\nnov-dec. 2023 – 1. og 2. censurering starter og pågår frem til 13.12.23\n20.12.2023 – Besked til alle tilmeldte kunstnere (fra 14.12.2023)\njanuar 2024 – Indlevering af værker indkaldt til 3. censur\, perioden 09.01.24 – 14.01.24\n20.01.2024 – Fernisering på VK24\n25.02.2024 – Udstillingens sidste dag\n27.02.2024 – Afhentning af ikke solgte værker 27.02.2024 – 29.02.24 \nCensorer VK24: Jesper Christiansen\, Louise Campbell og Trine Søndergaard \nCensorerne udpeger årets VK24 priser: 1. pris kr. 5.000\, 2. pris kr. 3.000\, 3. pris kr. 1.500 og plakatpris kr. 1.000\nI udstillingsperioden kan publikum desuden stemme om valg af årets publikumspris\, kr. 1.000\,- \nPlakatpris VK23: Cille Tovgaard for værket “Arteria Japonica”
URL:https://aeglageret.dk/event/tilmelding-vk24/
CATEGORIES:Udstilling
ATTACH;FMTTYPE=image/jpeg:https://aeglageret.dk/wp-content/uploads/2023/09/VK24_Tilmeld_plakat_MAIL.jpg
END:VEVENT
END:VCALENDAR