BEGIN:VCALENDAR
VERSION:2.0
PRODID:-//ÆGLAGERET – Kunst- og Kulturhus i Holbæk - ECPv6.15.15//NONSGML v1.0//EN
CALSCALE:GREGORIAN
METHOD:PUBLISH
X-ORIGINAL-URL:https://aeglageret.dk
X-WR-CALDESC:Begivenheder for ÆGLAGERET – Kunst- og Kulturhus i Holbæk
REFRESH-INTERVAL;VALUE=DURATION:PT1H
X-Robots-Tag:noindex
X-PUBLISHED-TTL:PT1H
BEGIN:VTIMEZONE
TZID:Europe/Copenhagen
BEGIN:DAYLIGHT
TZOFFSETFROM:+0100
TZOFFSETTO:+0200
TZNAME:CEST
DTSTART:20220327T010000
END:DAYLIGHT
BEGIN:STANDARD
TZOFFSETFROM:+0200
TZOFFSETTO:+0100
TZNAME:CET
DTSTART:20221030T010000
END:STANDARD
BEGIN:DAYLIGHT
TZOFFSETFROM:+0100
TZOFFSETTO:+0200
TZNAME:CEST
DTSTART:20230326T010000
END:DAYLIGHT
BEGIN:STANDARD
TZOFFSETFROM:+0200
TZOFFSETTO:+0100
TZNAME:CET
DTSTART:20231029T010000
END:STANDARD
BEGIN:DAYLIGHT
TZOFFSETFROM:+0100
TZOFFSETTO:+0200
TZNAME:CEST
DTSTART:20240331T010000
END:DAYLIGHT
BEGIN:STANDARD
TZOFFSETFROM:+0200
TZOFFSETTO:+0100
TZNAME:CET
DTSTART:20241027T010000
END:STANDARD
END:VTIMEZONE
BEGIN:VEVENT
DTSTART;TZID=Europe/Copenhagen:20231021T130000
DTEND;TZID=Europe/Copenhagen:20231119T160000
DTSTAMP:20260421T235940
CREATED:20230517T061152Z
LAST-MODIFIED:20231004T101538Z
UID:10000607-1697893200-1700409600@aeglageret.dk
SUMMARY:"Danmarks næste klassiker"\, designudstilling
DESCRIPTION:17 designere kendt fra DR’s 4 episoder af TV programmet “Danmarks næste klassiker”\nHolbæk Kunstforening\, d. 21. oktober – 19. november 2023 \nFernisering lørdag d. 21. oktober 2023 kl. 13-15 \nLæs mere om designudstillingen HER
URL:https://aeglageret.dk/event/danmarks-naeste-klassiker-designudstilling/
LOCATION:Salen
CATEGORIES:Udstilling
ATTACH;FMTTYPE=image/jpeg:https://aeglageret.dk/wp-content/uploads/2023/10/Aeglager_A3_1023.jpg
END:VEVENT
BEGIN:VEVENT
DTSTART;TZID=Europe/Copenhagen:20231110T160000
DTEND;TZID=Europe/Copenhagen:20231110T220000
DTSTAMP:20260421T235940
CREATED:20230817T165438Z
LAST-MODIFIED:20230920T081327Z
UID:10000632-1699632000-1699653600@aeglageret.dk
SUMMARY:Fantasy Day på Æglageret
DESCRIPTION:Fredag den 10. november er det Fantacy Dag i Holbæk\, og på Æglageret.\nHolbæk Kulturskole er primus motor og har samlet en bred gruppe af kulturaktører for ungdommen  denne fredag eftermiddag og aften.\nÆglagerets have er et af knudepunkterne\, hvor der i løbet af aftenen vil vise sig nye og anderledes ting i haven. \nHele huset vil summe af aktiviteter den fredag. Foregår i hele huset og have. Haven vil være indrettes uhyggeligt med lys installationer. \n  \nNærmere oplysninger hos Kunstlaboratoriet:  Birgitte Kjøller\nTelefon: 72364825\,  mail: birkj@holb.dk
URL:https://aeglageret.dk/event/fantasy-day/
LOCATION:Atelierloftet
CATEGORIES:Udstilling,Workshop
ATTACH;FMTTYPE=image/jpeg:https://aeglageret.dk/wp-content/uploads/2023/09/logo-fantacy-dag.jpg
END:VEVENT
END:VCALENDAR