BEGIN:VCALENDAR
VERSION:2.0
PRODID:-//ÆGLAGERET – Kunst- og Kulturhus i Holbæk - ECPv6.15.15//NONSGML v1.0//EN
CALSCALE:GREGORIAN
METHOD:PUBLISH
X-ORIGINAL-URL:https://aeglageret.dk
X-WR-CALDESC:Begivenheder for ÆGLAGERET – Kunst- og Kulturhus i Holbæk
REFRESH-INTERVAL;VALUE=DURATION:PT1H
X-Robots-Tag:noindex
X-PUBLISHED-TTL:PT1H
BEGIN:VTIMEZONE
TZID:Europe/Copenhagen
BEGIN:DAYLIGHT
TZOFFSETFROM:+0100
TZOFFSETTO:+0200
TZNAME:CEST
DTSTART:20220327T010000
END:DAYLIGHT
BEGIN:STANDARD
TZOFFSETFROM:+0200
TZOFFSETTO:+0100
TZNAME:CET
DTSTART:20221030T010000
END:STANDARD
BEGIN:DAYLIGHT
TZOFFSETFROM:+0100
TZOFFSETTO:+0200
TZNAME:CEST
DTSTART:20230326T010000
END:DAYLIGHT
BEGIN:STANDARD
TZOFFSETFROM:+0200
TZOFFSETTO:+0100
TZNAME:CET
DTSTART:20231029T010000
END:STANDARD
BEGIN:DAYLIGHT
TZOFFSETFROM:+0100
TZOFFSETTO:+0200
TZNAME:CEST
DTSTART:20240331T010000
END:DAYLIGHT
BEGIN:STANDARD
TZOFFSETFROM:+0200
TZOFFSETTO:+0100
TZNAME:CET
DTSTART:20241027T010000
END:STANDARD
END:VTIMEZONE
BEGIN:VEVENT
DTSTART;TZID=Europe/Copenhagen:20231125T130000
DTEND;TZID=Europe/Copenhagen:20231222T170000
DTSTAMP:20260421T234239
CREATED:20230517T061421Z
LAST-MODIFIED:20231121T145643Z
UID:10000609-1700917200-1703264400@aeglageret.dk
SUMMARY:Juleudstilling
DESCRIPTION:6 dygtige kunstnere og kunsthåndværkere\nHolbæk Kunstforening\, d. 25. november – 22. december 2023 \nJuleudstilling – årets sidste udstilling i Æglageret \nHolbæk Kunstforening har inviteret 6 anerkendte kunstnere og kunsthåndværkere til at fylde Æglagerets sal med værker og designs\, der måske kan inspirere til julegaver? \nI Juleudstillingen indgår smykkedesign\, unika kunsttæpper og -måtter\, trævarer\, tegning\, grafik\, maleri og keramik. \nDeltagende kunstnere og kunsthåndværkere: \nTrine Steen smykker\nChristella Bamford unika kunsttæpper og -måtter\nHelge Nordstrøm maleri og tegning\nSebastian Jakobsen keramik\nJens Pieler trævarer\nJohannes Balsgaard grafik \nDer er fernisering på Juleudstillingen i Holbæk Kunstforening\, Æglageret lørdag d. 25. november 2023 kl. 13 – 15 \nJuleudstillingen kan ses i Æglageret til og med fredag d. 22. december 2023 \nVel mødt!
URL:https://aeglageret.dk/event/juleudstilling/
LOCATION:Salen
CATEGORIES:Udstilling
ATTACH;FMTTYPE=image/jpeg:https://aeglageret.dk/wp-content/uploads/2023/11/Aeglager_A3_1123-1.jpg
END:VEVENT
END:VCALENDAR